BEGIN:VCALENDAR
VERSION:2.0
PRODID:-//Florida Sheriffs Youth Ranches - ECPv6.15.20//NONSGML v1.0//EN
CALSCALE:GREGORIAN
METHOD:PUBLISH
X-ORIGINAL-URL:https://www.youthranches.org
X-WR-CALDESC:Events for Florida Sheriffs Youth Ranches
REFRESH-INTERVAL;VALUE=DURATION:PT1H
X-Robots-Tag:noindex
X-PUBLISHED-TTL:PT1H
BEGIN:VTIMEZONE
TZID:America/New_York
BEGIN:DAYLIGHT
TZOFFSETFROM:-0500
TZOFFSETTO:-0400
TZNAME:EDT
DTSTART:20250309T070000
END:DAYLIGHT
BEGIN:STANDARD
TZOFFSETFROM:-0400
TZOFFSETTO:-0500
TZNAME:EST
DTSTART:20251102T060000
END:STANDARD
BEGIN:DAYLIGHT
TZOFFSETFROM:-0500
TZOFFSETTO:-0400
TZNAME:EDT
DTSTART:20260308T070000
END:DAYLIGHT
BEGIN:STANDARD
TZOFFSETFROM:-0400
TZOFFSETTO:-0500
TZNAME:EST
DTSTART:20261101T060000
END:STANDARD
BEGIN:DAYLIGHT
TZOFFSETFROM:-0500
TZOFFSETTO:-0400
TZNAME:EDT
DTSTART:20270314T070000
END:DAYLIGHT
BEGIN:STANDARD
TZOFFSETFROM:-0400
TZOFFSETTO:-0500
TZNAME:EST
DTSTART:20271107T060000
END:STANDARD
END:VTIMEZONE
BEGIN:VEVENT
DTSTART;TZID=America/New_York:20260107T183000
DTEND;TZID=America/New_York:20260107T220000
DTSTAMP:20260421T122326
CREATED:20241203T193310Z
LAST-MODIFIED:20241203T193310Z
UID:10000115-1767810600-1767823200@www.youthranches.org
SUMMARY:Florida Sheriffs Boys Ranch Open Barrel Racing Practice
DESCRIPTION:Come join us for open barrel racing practice at the Jim Black Memorial Pavilion at the Florida Sheriffs Boys Ranch on Wednesdays from 6:30PM to 10:00PM. \nThe address for the Florida Sheriffs Boys Ranch is: 1813 Cecil Webb Place Live Oak\, Florida 32060 \nAdmission is $20.00 per horse \nThe event will be closed from December 1\, 2024 through January 7\, 2025. Open Barrel Racing will re-open on Wednesday\, January 8\, 2025. \nFor more information please call (386) 842-5555.
URL:https://www.youthranches.org/event/florida-sheriffs-boys-ranch-open-barrel-racing-practice/2026-01-07/
LOCATION:Jim Black Memorial Pavilion – Florida Sheriffs Boys Ranch\, FL\, 32064\, United States
CATEGORIES:Jim Black Pavilion
END:VEVENT
BEGIN:VEVENT
DTSTART;TZID=America/New_York:20260114T183000
DTEND;TZID=America/New_York:20260114T220000
DTSTAMP:20260421T122326
CREATED:20241203T193310Z
LAST-MODIFIED:20241203T193310Z
UID:10000116-1768415400-1768428000@www.youthranches.org
SUMMARY:Florida Sheriffs Boys Ranch Open Barrel Racing Practice
DESCRIPTION:Come join us for open barrel racing practice at the Jim Black Memorial Pavilion at the Florida Sheriffs Boys Ranch on Wednesdays from 6:30PM to 10:00PM. \nThe address for the Florida Sheriffs Boys Ranch is: 1813 Cecil Webb Place Live Oak\, Florida 32060 \nAdmission is $20.00 per horse \nThe event will be closed from December 1\, 2024 through January 7\, 2025. Open Barrel Racing will re-open on Wednesday\, January 8\, 2025. \nFor more information please call (386) 842-5555.
URL:https://www.youthranches.org/event/florida-sheriffs-boys-ranch-open-barrel-racing-practice/2026-01-14/
LOCATION:Jim Black Memorial Pavilion – Florida Sheriffs Boys Ranch\, FL\, 32064\, United States
CATEGORIES:Jim Black Pavilion
END:VEVENT
BEGIN:VEVENT
DTSTART;TZID=America/New_York:20260121T183000
DTEND;TZID=America/New_York:20260121T220000
DTSTAMP:20260421T122326
CREATED:20241203T193310Z
LAST-MODIFIED:20241203T193310Z
UID:10000117-1769020200-1769032800@www.youthranches.org
SUMMARY:Florida Sheriffs Boys Ranch Open Barrel Racing Practice
DESCRIPTION:Come join us for open barrel racing practice at the Jim Black Memorial Pavilion at the Florida Sheriffs Boys Ranch on Wednesdays from 6:30PM to 10:00PM. \nThe address for the Florida Sheriffs Boys Ranch is: 1813 Cecil Webb Place Live Oak\, Florida 32060 \nAdmission is $20.00 per horse \nThe event will be closed from December 1\, 2024 through January 7\, 2025. Open Barrel Racing will re-open on Wednesday\, January 8\, 2025. \nFor more information please call (386) 842-5555.
URL:https://www.youthranches.org/event/florida-sheriffs-boys-ranch-open-barrel-racing-practice/2026-01-21/
LOCATION:Jim Black Memorial Pavilion – Florida Sheriffs Boys Ranch\, FL\, 32064\, United States
CATEGORIES:Jim Black Pavilion
END:VEVENT
BEGIN:VEVENT
DTSTART;VALUE=DATE:20260124
DTEND;VALUE=DATE:20260126
DTSTAMP:20260421T122326
CREATED:20250903T213318Z
LAST-MODIFIED:20250903T213458Z
UID:10000330-1769212800-1769385599@www.youthranches.org
SUMMARY:#NoExcuses Connie Combs Barrel Racing Clinic
DESCRIPTION:The #NoExcuses Connie Combs Barrel Racing Clinic will be held at the Jim Black Memorial Pavilion at the Florida Sheriffs Boys Ranch on January 24-25\, 2026. \nCost for the clinic is $585.00 with a $185.00 non-refundable deposit at entry. The remaining amount will be due by January 5\, 2026. \nOvernight stalls available. \nAwards\, raffles\, goody bags and more. \nIf you would like more information or for entry please text Natasha at (575) 513-0066
URL:https://www.youthranches.org/event/no-excuses-connie-combs-barrel-racing-clinic/
LOCATION:Jim Black Memorial Pavilion – Florida Sheriffs Boys Ranch\, FL\, 32064\, United States
CATEGORIES:Jim Black Pavilion
ATTACH;FMTTYPE=image/jpeg:https://www.youthranches.org/wp-content/uploads/2025/08/No-Excuses-Connie-Combs-Barrel-Racing-Clinics-Flyer-Jan-24-2026.jpg
END:VEVENT
BEGIN:VEVENT
DTSTART;TZID=America/New_York:20260128T183000
DTEND;TZID=America/New_York:20260128T220000
DTSTAMP:20260421T122326
CREATED:20241203T193310Z
LAST-MODIFIED:20241203T193310Z
UID:10000118-1769625000-1769637600@www.youthranches.org
SUMMARY:Florida Sheriffs Boys Ranch Open Barrel Racing Practice
DESCRIPTION:Come join us for open barrel racing practice at the Jim Black Memorial Pavilion at the Florida Sheriffs Boys Ranch on Wednesdays from 6:30PM to 10:00PM. \nThe address for the Florida Sheriffs Boys Ranch is: 1813 Cecil Webb Place Live Oak\, Florida 32060 \nAdmission is $20.00 per horse \nThe event will be closed from December 1\, 2024 through January 7\, 2025. Open Barrel Racing will re-open on Wednesday\, January 8\, 2025. \nFor more information please call (386) 842-5555.
URL:https://www.youthranches.org/event/florida-sheriffs-boys-ranch-open-barrel-racing-practice/2026-01-28/
LOCATION:Jim Black Memorial Pavilion – Florida Sheriffs Boys Ranch\, FL\, 32064\, United States
CATEGORIES:Jim Black Pavilion
END:VEVENT
END:VCALENDAR